BEGIN:VCALENDAR
VERSION:2.0
PRODID:-// - ECPv6.15.20//NONSGML v1.0//EN
CALSCALE:GREGORIAN
METHOD:PUBLISH
X-ORIGINAL-URL:https://www.zontaofmadison.org
X-WR-CALDESC:Events for 
REFRESH-INTERVAL;VALUE=DURATION:PT1H
X-Robots-Tag:noindex
X-PUBLISHED-TTL:PT1H
BEGIN:VTIMEZONE
TZID:America/Chicago
BEGIN:DAYLIGHT
TZOFFSETFROM:-0600
TZOFFSETTO:-0500
TZNAME:CDT
DTSTART:20230312T080000
END:DAYLIGHT
BEGIN:STANDARD
TZOFFSETFROM:-0500
TZOFFSETTO:-0600
TZNAME:CST
DTSTART:20231105T070000
END:STANDARD
BEGIN:DAYLIGHT
TZOFFSETFROM:-0600
TZOFFSETTO:-0500
TZNAME:CDT
DTSTART:20240310T080000
END:DAYLIGHT
BEGIN:STANDARD
TZOFFSETFROM:-0500
TZOFFSETTO:-0600
TZNAME:CST
DTSTART:20241103T070000
END:STANDARD
BEGIN:DAYLIGHT
TZOFFSETFROM:-0600
TZOFFSETTO:-0500
TZNAME:CDT
DTSTART:20250309T080000
END:DAYLIGHT
BEGIN:STANDARD
TZOFFSETFROM:-0500
TZOFFSETTO:-0600
TZNAME:CST
DTSTART:20251102T070000
END:STANDARD
BEGIN:DAYLIGHT
TZOFFSETFROM:-0600
TZOFFSETTO:-0500
TZNAME:CDT
DTSTART:20260308T080000
END:DAYLIGHT
BEGIN:STANDARD
TZOFFSETFROM:-0500
TZOFFSETTO:-0600
TZNAME:CST
DTSTART:20261101T070000
END:STANDARD
END:VTIMEZONE
BEGIN:VEVENT
DTSTART;TZID=America/Chicago:20250521T173000
DTEND;TZID=America/Chicago:20250521T200000
DTSTAMP:20260423T171333
CREATED:20241217T181111Z
LAST-MODIFIED:20250120T161409Z
UID:10839-1747848600-1747857600@www.zontaofmadison.org
SUMMARY:Zonta May Business Meeting
DESCRIPTION:The monthly Zonta Club of Madison Business Meeting is a dinner meeting with a special program preceding discussion of club business. In the month of May\, there will only be an Annual Club Meeting to review the 2024-2025 year. \nThe schedule is as follows: \n5:30-6:00pm: Social Hour \n6:00pm-8:00pm: Dinner and business meeting.
URL:https://www.zontaofmadison.org/event/zonta-may-business-meeting-2/
LOCATION:Vintage Brewing\, 674 S. Whitney Way\, Madison\, WI\, United States
CATEGORIES:Monthly Club Meeting
ORGANIZER;CN="Tamara Hagan":MAILTO:thcormd@aol.com
END:VEVENT
BEGIN:VEVENT
DTSTART;TZID=America/Chicago:20250416T173000
DTEND;TZID=America/Chicago:20250416T200000
DTSTAMP:20260423T171333
CREATED:20241217T171108Z
LAST-MODIFIED:20250120T161350Z
UID:10835-1744824600-1744833600@www.zontaofmadison.org
SUMMARY:Zonta April Business Meeting
DESCRIPTION:The monthly Zonta Club of Madison Business Meeting is a dinner meeting with a special program preceding discussion of club business.  The April program features Dr. Amy L. Rosebrough\, the Wisconsin State Archaeologist. She will discuss the expansion of research regarding the recent discovery of the Lake Mendota Canoes. The recoveries drew international attention in May 2024\, when it was announced that archaeologists have identified up to 11 canoes within the same site. The 4\,500-year-old canoe is now the oldest recorded in the Great Lakes. \nThe schedule is as follows: \n5:30-6:00pm: Social Hour \n6:00pm-8:00pm: Dinner\, program and business meeting.
URL:https://www.zontaofmadison.org/event/zonta-april-business-meeting-2/
LOCATION:Vintage Brewing\, 674 S. Whitney Way\, Madison\, WI\, United States
CATEGORIES:Monthly Club Meeting
ORGANIZER;CN="Tamara Hagan":MAILTO:thcormd@aol.com
END:VEVENT
BEGIN:VEVENT
DTSTART;TZID=America/Chicago:20250319T173000
DTEND;TZID=America/Chicago:20250319T200000
DTSTAMP:20260423T171333
CREATED:20241217T165742Z
LAST-MODIFIED:20250120T161317Z
UID:10831-1742405400-1742414400@www.zontaofmadison.org
SUMMARY:Zonta March Business Meeting
DESCRIPTION:The monthly Zonta Club of Madison Business Meeting is a dinner meeting with a special program preceding discussion of club business.  The March meeting program will feature Susan Webb-Yackee\, the Director of the University of Wisconsin La Follette School of Public Affairs. She will discuss getting college students involved in public policy. \nThe schedule is as follows: \n5:30-6:00pm: Social Hour \n6:00pm-8:00pm: Dinner\, program and business meeting.
URL:https://www.zontaofmadison.org/event/zonta-march-business-meeting-2/
LOCATION:Vintage Brewing\, 674 S. Whitney Way\, Madison\, WI\, United States
CATEGORIES:Monthly Club Meeting
ORGANIZER;CN="Tamara Hagan":MAILTO:thcormd@aol.com
END:VEVENT
BEGIN:VEVENT
DTSTART;TZID=America/Chicago:20250219T173000
DTEND;TZID=America/Chicago:20250219T200000
DTSTAMP:20260423T171333
CREATED:20241217T164414Z
LAST-MODIFIED:20250120T161253Z
UID:10826-1739986200-1739995200@www.zontaofmadison.org
SUMMARY:Zonta February Business Meeting
DESCRIPTION:The monthly Zonta Club of Madison Business Meeting is a dinner meeting with a special program preceding discussion of club business. In February\, the Zonta Area 2 Director\, Cathy Myers\, will present a  Report from Zonta District 6 and Zonta International. \nThe schedule is as follows: \n5:30-6:00pm: Social Hour \n6:00pm-8:00pm: Dinner\, program and business meeting.
URL:https://www.zontaofmadison.org/event/zonta-february-business-meeting-2/
LOCATION:Vintage Brewing\, 674 S. Whitney Way\, Madison\, WI\, United States
CATEGORIES:Monthly Club Meeting
ORGANIZER;CN="Tamara Hagan":MAILTO:thcormd@aol.com
END:VEVENT
BEGIN:VEVENT
DTSTART;TZID=America/Chicago:20250115T173000
DTEND;TZID=America/Chicago:20250115T200000
DTSTAMP:20260423T171333
CREATED:20241217T163401Z
LAST-MODIFIED:20241217T163841Z
UID:10824-1736962200-1736971200@www.zontaofmadison.org
SUMMARY:Zonta January Business Meeting
DESCRIPTION:The monthly Zonta Club of Madison Business Meeting is a dinner meeting with a special program preceding discussion of club business. In January\, Amelia Earhart month\, the local author Gwen Huchens will be discussing her book:  “Critical Air: A Flight Nurse’s Adventures from Alaska to Nepal” \nThe schedule is as follows: \n5:30-6:00pm: Social Hour \n6:00pm-8:00pm: Dinner\, program and business meeting.
URL:https://www.zontaofmadison.org/event/zonta-january-business-meeting-2/
LOCATION:Vintage Brewing\, 674 S. Whitney Way\, Madison\, WI\, United States
CATEGORIES:Monthly Club Meeting
ORGANIZER;CN="Tamara Hagan":MAILTO:thcormd@aol.com
END:VEVENT
BEGIN:VEVENT
DTSTART;TZID=America/Chicago:20241120T173000
DTEND;TZID=America/Chicago:20241120T200000
DTSTAMP:20260423T171333
CREATED:20240830T161312Z
LAST-MODIFIED:20240830T161312Z
UID:10700-1732123800-1732132800@www.zontaofmadison.org
SUMMARY:Zonta November Business Meeting
DESCRIPTION:The monthly Zonta Club of Madison Business Meeting is a dinner meeting with a special program preceding discussion of club business. The November program features a presentation by a representative of Felicia’s Donation Closet – Foundation Community Grant Recipient. \nLearn more about Felicia’s Donation Closet HERE. \nThe schedule is as follows: \n5:30-6:00pm: Social Hour \n6:00pm-8:00pm: Dinner\, program and business meeting.
URL:https://www.zontaofmadison.org/event/zonta-november-business-meeting/
LOCATION:Vintage Brewing\, 674 S. Whitney Way\, Madison\, WI\, United States
CATEGORIES:Monthly Club Meeting
ORGANIZER;CN="Tamara Hagan":MAILTO:thcormd@aol.com
END:VEVENT
BEGIN:VEVENT
DTSTART;TZID=America/Chicago:20241016T173000
DTEND;TZID=America/Chicago:20241016T200000
DTSTAMP:20260423T171333
CREATED:20240830T160828Z
LAST-MODIFIED:20240917T000824Z
UID:10697-1729099800-1729108800@www.zontaofmadison.org
SUMMARY:Zonta October Business Meeting and Program
DESCRIPTION:The monthly Zonta Club of Madison Business Meeting is a dinner meeting with a special program preceding discussion of club business. The October program features a presentation by a  representative from Briarpatch Youth Services – Foundation Community Grant Recipient. \nClick HERE for more information about Briarpatch. \nThe schedule is as follows: \n5:30-6:00pm: Social Hour \n6:00pm-8:00pm: Dinner\, program and business meeting.
URL:https://www.zontaofmadison.org/event/zonta-october-business-meeting/
LOCATION:Vintage Brewing\, 674 S. Whitney Way\, Madison\, WI\, United States
CATEGORIES:Monthly Club Meeting
ORGANIZER;CN="Tamara Hagan":MAILTO:thcormd@aol.com
END:VEVENT
BEGIN:VEVENT
DTSTART;TZID=America/Chicago:20240918T173000
DTEND;TZID=America/Chicago:20240918T200000
DTSTAMP:20260423T171333
CREATED:20240830T160240Z
LAST-MODIFIED:20240917T000854Z
UID:10694-1726680600-1726689600@www.zontaofmadison.org
SUMMARY:Zonta September Business Meeting and Program
DESCRIPTION:The monthly Zonta Club of Madison Business Meeting is a dinner meeting with a special program preceding discussion of club business. The September program features a presentation: “Mindfulness Empowers Women” by Mare Chapman psychotherapist\, teacher and author. \nMore about Mare Chapman HERE. \nThe schedule is as follows: \n5:30-6:00pm: Social Hour \n6:00pm-8:00pm: Dinner\, program and business meeting.
URL:https://www.zontaofmadison.org/event/zonta-september-business-meeting/
LOCATION:Vintage Brewing\, 674 S. Whitney Way\, Madison\, WI\, United States
CATEGORIES:Monthly Club Meeting
ORGANIZER;CN="Tamara Hagan":MAILTO:thcormd@aol.com
END:VEVENT
BEGIN:VEVENT
DTSTART;TZID=America/Chicago:20240515T173000
DTEND;TZID=America/Chicago:20240515T200000
DTSTAMP:20260423T171333
CREATED:20240104T183500Z
LAST-MODIFIED:20240130T000302Z
UID:10294-1715794200-1715803200@www.zontaofmadison.org
SUMMARY:Zonta May Business Meeting
DESCRIPTION:The monthly Zonta Club of Madison Business Meeting is a dinner meeting with a special program preceding discussion of club business. The May meeting is the Zonta Club of Madison Annual Meeting. \nThe schedule is as follows: \n5:30-6:00pm: Social Hour \n6:00pm-8:00pm: Dinner\, annual meeting. \n  \n 
URL:https://www.zontaofmadison.org/event/zonta-may-business-meeting/
LOCATION:Vintage Brewing\, 674 S. Whitney Way\, Madison\, WI\, United States
CATEGORIES:Monthly Club Meeting
ORGANIZER;CN="Tamara Hagan":MAILTO:thcormd@aol.com
END:VEVENT
BEGIN:VEVENT
DTSTART;TZID=America/Chicago:20240320T173000
DTEND;TZID=America/Chicago:20240320T200000
DTSTAMP:20260423T171333
CREATED:20240104T181351Z
LAST-MODIFIED:20240130T000603Z
UID:10282-1710955800-1710964800@www.zontaofmadison.org
SUMMARY:Zonta March Business Meeting
DESCRIPTION:The monthly Zonta Club of Madison Business Meeting is a dinner meeting with a special program preceding discussion of club business. This month’s program features the “Wisconsin Book Festival”\, presented by Festival Director\,  Jane Rotonda \nThe schedule is as follows: \n5:30-6:00pm: Social Hour \n6:00pm-8:00pm: Dinner\, program and business meeting. \n  \n 
URL:https://www.zontaofmadison.org/event/zonta-march-business-meeting/
LOCATION:Vintage Brewing\, 674 S. Whitney Way\, Madison\, WI\, United States
CATEGORIES:Monthly Club Meeting
ORGANIZER;CN="Tamara Hagan":MAILTO:thcormd@aol.com
END:VEVENT
BEGIN:VEVENT
DTSTART;TZID=America/Chicago:20240221T173000
DTEND;TZID=America/Chicago:20240221T200000
DTSTAMP:20260423T171333
CREATED:20240103T203101Z
LAST-MODIFIED:20240130T000437Z
UID:10277-1708536600-1708545600@www.zontaofmadison.org
SUMMARY:Zonta February Business Meeting
DESCRIPTION:The monthly Zonta Club of Madison Business Meeting is a dinner meeting with a special program preceding discussion of club business. The February program features: “All Things Alzheimers” by Fatou Ceesay\, President and CEO of Home Care/Cairsu. \nThe schedule is as follows: \n5:30-6:00pm: Social Hour \n6:00pm-8:00pm: Dinner\, program and business meeting.
URL:https://www.zontaofmadison.org/event/zonta-february-business-meeting/
LOCATION:Vintage Brewing\, 674 S. Whitney Way\, Madison\, WI\, United States
CATEGORIES:Monthly Club Meeting
ORGANIZER;CN="Tamara Hagan":MAILTO:thcormd@aol.com
END:VEVENT
BEGIN:VEVENT
DTSTART;TZID=America/Chicago:20240117T173000
DTEND;TZID=America/Chicago:20240117T200000
DTSTAMP:20260423T171333
CREATED:20231231T205308Z
LAST-MODIFIED:20240111T204603Z
UID:10268-1705512600-1705521600@www.zontaofmadison.org
SUMMARY:Zonta January Business Meeting
DESCRIPTION:The monthly Zonta Club of Madison Business Meeting is a dinner meeting with a special program preceding discussion of club business. The January program features: “Advancement of Women in STEM Fields\, Academics and Leadership”\, by UW Assistant Professor Dr. Dawn Davis. This is an online public event\, which can be found at Badger Talks here. \nThere is a Facebook event here. \nThe schedule is as follows: \n5:30-6:00pm: Social Hour \n6:00pm-8:00pm: Dinner\, program and business meeting.
URL:https://www.zontaofmadison.org/event/zonta-january-business-meeting/
LOCATION:Vintage Brewing\, 674 S. Whitney Way\, Madison\, WI\, United States
CATEGORIES:Monthly Club Meeting
ORGANIZER;CN="Judy Brandt":MAILTO:Brandtjm11@gmail.com
END:VEVENT
END:VCALENDAR