BEGIN:VCALENDAR
VERSION:2.0
PRODID:-// - ECPv6.15.20//NONSGML v1.0//EN
CALSCALE:GREGORIAN
METHOD:PUBLISH
X-ORIGINAL-URL:https://www.zontaofmadison.org
X-WR-CALDESC:Events for 
REFRESH-INTERVAL;VALUE=DURATION:PT1H
X-Robots-Tag:noindex
X-PUBLISHED-TTL:PT1H
BEGIN:VTIMEZONE
TZID:America/Chicago
BEGIN:DAYLIGHT
TZOFFSETFROM:-0600
TZOFFSETTO:-0500
TZNAME:CDT
DTSTART:20230312T080000
END:DAYLIGHT
BEGIN:STANDARD
TZOFFSETFROM:-0500
TZOFFSETTO:-0600
TZNAME:CST
DTSTART:20231105T070000
END:STANDARD
BEGIN:DAYLIGHT
TZOFFSETFROM:-0600
TZOFFSETTO:-0500
TZNAME:CDT
DTSTART:20240310T080000
END:DAYLIGHT
BEGIN:STANDARD
TZOFFSETFROM:-0500
TZOFFSETTO:-0600
TZNAME:CST
DTSTART:20241103T070000
END:STANDARD
BEGIN:DAYLIGHT
TZOFFSETFROM:-0600
TZOFFSETTO:-0500
TZNAME:CDT
DTSTART:20250309T080000
END:DAYLIGHT
BEGIN:STANDARD
TZOFFSETFROM:-0500
TZOFFSETTO:-0600
TZNAME:CST
DTSTART:20251102T070000
END:STANDARD
BEGIN:DAYLIGHT
TZOFFSETFROM:-0600
TZOFFSETTO:-0500
TZNAME:CDT
DTSTART:20260308T080000
END:DAYLIGHT
BEGIN:STANDARD
TZOFFSETFROM:-0500
TZOFFSETTO:-0600
TZNAME:CST
DTSTART:20261101T070000
END:STANDARD
END:VTIMEZONE
BEGIN:VEVENT
DTSTART;TZID=America/Chicago:20250521T173000
DTEND;TZID=America/Chicago:20250521T200000
DTSTAMP:20260423T134252
CREATED:20241217T181111Z
LAST-MODIFIED:20250120T161409Z
UID:10839-1747848600-1747857600@www.zontaofmadison.org
SUMMARY:Zonta May Business Meeting
DESCRIPTION:The monthly Zonta Club of Madison Business Meeting is a dinner meeting with a special program preceding discussion of club business. In the month of May\, there will only be an Annual Club Meeting to review the 2024-2025 year. \nThe schedule is as follows: \n5:30-6:00pm: Social Hour \n6:00pm-8:00pm: Dinner and business meeting.
URL:https://www.zontaofmadison.org/event/zonta-may-business-meeting-2/
LOCATION:Vintage Brewing\, 674 S. Whitney Way\, Madison\, WI\, United States
CATEGORIES:Monthly Club Meeting
ORGANIZER;CN="Tamara Hagan":MAILTO:thcormd@aol.com
END:VEVENT
BEGIN:VEVENT
DTSTART;TZID=America/Chicago:20250416T173000
DTEND;TZID=America/Chicago:20250416T200000
DTSTAMP:20260423T134252
CREATED:20241217T171108Z
LAST-MODIFIED:20250120T161350Z
UID:10835-1744824600-1744833600@www.zontaofmadison.org
SUMMARY:Zonta April Business Meeting
DESCRIPTION:The monthly Zonta Club of Madison Business Meeting is a dinner meeting with a special program preceding discussion of club business.  The April program features Dr. Amy L. Rosebrough\, the Wisconsin State Archaeologist. She will discuss the expansion of research regarding the recent discovery of the Lake Mendota Canoes. The recoveries drew international attention in May 2024\, when it was announced that archaeologists have identified up to 11 canoes within the same site. The 4\,500-year-old canoe is now the oldest recorded in the Great Lakes. \nThe schedule is as follows: \n5:30-6:00pm: Social Hour \n6:00pm-8:00pm: Dinner\, program and business meeting.
URL:https://www.zontaofmadison.org/event/zonta-april-business-meeting-2/
LOCATION:Vintage Brewing\, 674 S. Whitney Way\, Madison\, WI\, United States
CATEGORIES:Monthly Club Meeting
ORGANIZER;CN="Tamara Hagan":MAILTO:thcormd@aol.com
END:VEVENT
BEGIN:VEVENT
DTSTART;TZID=America/Chicago:20250319T173000
DTEND;TZID=America/Chicago:20250319T200000
DTSTAMP:20260423T134252
CREATED:20241217T165742Z
LAST-MODIFIED:20250120T161317Z
UID:10831-1742405400-1742414400@www.zontaofmadison.org
SUMMARY:Zonta March Business Meeting
DESCRIPTION:The monthly Zonta Club of Madison Business Meeting is a dinner meeting with a special program preceding discussion of club business.  The March meeting program will feature Susan Webb-Yackee\, the Director of the University of Wisconsin La Follette School of Public Affairs. She will discuss getting college students involved in public policy. \nThe schedule is as follows: \n5:30-6:00pm: Social Hour \n6:00pm-8:00pm: Dinner\, program and business meeting.
URL:https://www.zontaofmadison.org/event/zonta-march-business-meeting-2/
LOCATION:Vintage Brewing\, 674 S. Whitney Way\, Madison\, WI\, United States
CATEGORIES:Monthly Club Meeting
ORGANIZER;CN="Tamara Hagan":MAILTO:thcormd@aol.com
END:VEVENT
BEGIN:VEVENT
DTSTART;TZID=America/Chicago:20250318T183000
DTEND;TZID=America/Chicago:20250318T203000
DTSTAMP:20260423T134252
CREATED:20250115T211916Z
LAST-MODIFIED:20250124T180324Z
UID:10880-1742322600-1742329800@www.zontaofmadison.org
SUMMARY:Advocacy Into Action - Pass the Wisconsin ERA!
DESCRIPTION:Zonta Club of Madison is hosting an exciting event discussing/promoting the passage of a Wisconsin State Constitutional Amendment that guarantees the equal rights of all citizens regardless of sex. Guest speakers include:  Mary T. Nagel\, Assistant Professor of Legal Writing and Associate Dean for Academic Affairs\, Chicago-Kent College of Law and District 6 Rep to Zonta International\, and Michele H. Thorne\, Attorney in private practice and long term ERA advocate. Get more event details HERE!
URL:https://www.zontaofmadison.org/event/advocacy-into-action-pass-the-wisconsin-era/
LOCATION:Pinney Library\, 516 Cottage Grove Rd\, Madison\, WI\, 53716\, United States
CATEGORIES:Zonta Advocacy
ORGANIZER;CN="Pam Duane":MAILTO:pamanddenny@charter.net
END:VEVENT
BEGIN:VEVENT
DTSTART;TZID=America/Chicago:20250219T173000
DTEND;TZID=America/Chicago:20250219T200000
DTSTAMP:20260423T134252
CREATED:20241217T164414Z
LAST-MODIFIED:20250120T161253Z
UID:10826-1739986200-1739995200@www.zontaofmadison.org
SUMMARY:Zonta February Business Meeting
DESCRIPTION:The monthly Zonta Club of Madison Business Meeting is a dinner meeting with a special program preceding discussion of club business. In February\, the Zonta Area 2 Director\, Cathy Myers\, will present a  Report from Zonta District 6 and Zonta International. \nThe schedule is as follows: \n5:30-6:00pm: Social Hour \n6:00pm-8:00pm: Dinner\, program and business meeting.
URL:https://www.zontaofmadison.org/event/zonta-february-business-meeting-2/
LOCATION:Vintage Brewing\, 674 S. Whitney Way\, Madison\, WI\, United States
CATEGORIES:Monthly Club Meeting
ORGANIZER;CN="Tamara Hagan":MAILTO:thcormd@aol.com
END:VEVENT
BEGIN:VEVENT
DTSTART;TZID=America/Chicago:20250115T173000
DTEND;TZID=America/Chicago:20250115T200000
DTSTAMP:20260423T134252
CREATED:20241217T163401Z
LAST-MODIFIED:20241217T163841Z
UID:10824-1736962200-1736971200@www.zontaofmadison.org
SUMMARY:Zonta January Business Meeting
DESCRIPTION:The monthly Zonta Club of Madison Business Meeting is a dinner meeting with a special program preceding discussion of club business. In January\, Amelia Earhart month\, the local author Gwen Huchens will be discussing her book:  “Critical Air: A Flight Nurse’s Adventures from Alaska to Nepal” \nThe schedule is as follows: \n5:30-6:00pm: Social Hour \n6:00pm-8:00pm: Dinner\, program and business meeting.
URL:https://www.zontaofmadison.org/event/zonta-january-business-meeting-2/
LOCATION:Vintage Brewing\, 674 S. Whitney Way\, Madison\, WI\, United States
CATEGORIES:Monthly Club Meeting
ORGANIZER;CN="Tamara Hagan":MAILTO:thcormd@aol.com
END:VEVENT
BEGIN:VEVENT
DTSTART;TZID=America/Chicago:20250115T080000
DTEND;TZID=America/Chicago:20250219T170000
DTSTAMP:20260423T134252
CREATED:20250104T193751Z
LAST-MODIFIED:20250104T193751Z
UID:10847-1736928000-1739984400@www.zontaofmadison.org
SUMMARY:Food Drive for Way Forward Resources
DESCRIPTION:The Zonta Club of Madison Annual Food Drive for the Way Forward Resources Food Pantry runs from January 15 – February 19 (Zonta Club of Madison meeting dates). \nDonations can be dropped off/delivered 3 ways:\n1. East side – Pam’s house (318 Merryturn Rd)\n2. West side – Jane’s house (3146 Dorchester way\, #5)\n3. Bring to club meeting\nRemember\, our goal this year is 500 pounds!! The need is great\, as the pantries in Madison are serving 3 times the number of families that were served 2 years ago. \nFor Questions\, email: zontaclubofmadison@gmail.com \n 
URL:https://www.zontaofmadison.org/event/food-drive-for-way-forward-resources/
LOCATION:WI
CATEGORIES:Zonta Fundraiser
ORGANIZER;CN="Jane Hartman":MAILTO:Jlh2776@gmail.com
END:VEVENT
BEGIN:VEVENT
DTSTART;TZID=America/Chicago:20241211T170000
DTEND;TZID=America/Chicago:20241211T200000
DTSTAMP:20260423T134252
CREATED:20241103T013326Z
LAST-MODIFIED:20241104T011318Z
UID:10794-1733936400-1733947200@www.zontaofmadison.org
SUMMARY:Holiday Party -- Zonta Club Of Madison
DESCRIPTION:Details of the Event \nMenu for the Event
URL:https://www.zontaofmadison.org/event/holiday-party-zonta-club-of-madison/
LOCATION:Quivey’s Grove\, 6261 Nesbitt Rd\, Fitchburg\, WI\, United States
CATEGORIES:Social Events
ORGANIZER;CN="Jane Hartman":MAILTO:Jlh2776@gmail.com
END:VEVENT
BEGIN:VEVENT
DTSTART;TZID=America/Chicago:20241125T080000
DTEND;TZID=America/Chicago:20241207T170000
DTSTAMP:20260423T134252
CREATED:20241104T011916Z
LAST-MODIFIED:20241104T012424Z
UID:10805-1732521600-1733590800@www.zontaofmadison.org
SUMMARY:16 Days Of Activism
DESCRIPTION:Zonta International – 16 Days of Activism \nZonta Says NO to Violence Against Women
URL:https://www.zontaofmadison.org/event/16-days-of-activism/
LOCATION:WI
CATEGORIES:Zonta Advocacy,Zonta International Events
ORGANIZER;CN="JoAnn Gruber-Hagen":MAILTO:Joann.gruberhagen@gmail.com
END:VEVENT
BEGIN:VEVENT
DTSTART;TZID=America/Chicago:20241120T173000
DTEND;TZID=America/Chicago:20241120T200000
DTSTAMP:20260423T134252
CREATED:20240830T161312Z
LAST-MODIFIED:20240830T161312Z
UID:10700-1732123800-1732132800@www.zontaofmadison.org
SUMMARY:Zonta November Business Meeting
DESCRIPTION:The monthly Zonta Club of Madison Business Meeting is a dinner meeting with a special program preceding discussion of club business. The November program features a presentation by a representative of Felicia’s Donation Closet – Foundation Community Grant Recipient. \nLearn more about Felicia’s Donation Closet HERE. \nThe schedule is as follows: \n5:30-6:00pm: Social Hour \n6:00pm-8:00pm: Dinner\, program and business meeting.
URL:https://www.zontaofmadison.org/event/zonta-november-business-meeting/
LOCATION:Vintage Brewing\, 674 S. Whitney Way\, Madison\, WI\, United States
CATEGORIES:Monthly Club Meeting
ORGANIZER;CN="Tamara Hagan":MAILTO:thcormd@aol.com
END:VEVENT
BEGIN:VEVENT
DTSTART;TZID=America/Chicago:20241019T100000
DTEND;TZID=America/Chicago:20241019T133000
DTSTAMP:20260423T134252
CREATED:20240902T184229Z
LAST-MODIFIED:20240902T184229Z
UID:10743-1729332000-1729344600@www.zontaofmadison.org
SUMMARY:Zonta Club of Milwaukee Fashion Show
DESCRIPTION:“Fall Into Fashion – Build a Better World for Women and Girls”\n2024 Fundraiser Lunch & Fashion Show put on by the Zonta Club of Milwaukee
URL:https://www.zontaofmadison.org/event/zonta-club-of-milwaukee-fashion-show/
LOCATION:Milwaukee Marriott West\, W231 N1600 Corporate Court\, Pewaukee\, WI\, 56186\, United States
CATEGORIES:Zonta Fundraiser
END:VEVENT
BEGIN:VEVENT
DTSTART;TZID=America/Chicago:20241016T173000
DTEND;TZID=America/Chicago:20241016T200000
DTSTAMP:20260423T134252
CREATED:20240830T160828Z
LAST-MODIFIED:20240917T000824Z
UID:10697-1729099800-1729108800@www.zontaofmadison.org
SUMMARY:Zonta October Business Meeting and Program
DESCRIPTION:The monthly Zonta Club of Madison Business Meeting is a dinner meeting with a special program preceding discussion of club business. The October program features a presentation by a  representative from Briarpatch Youth Services – Foundation Community Grant Recipient. \nClick HERE for more information about Briarpatch. \nThe schedule is as follows: \n5:30-6:00pm: Social Hour \n6:00pm-8:00pm: Dinner\, program and business meeting.
URL:https://www.zontaofmadison.org/event/zonta-october-business-meeting/
LOCATION:Vintage Brewing\, 674 S. Whitney Way\, Madison\, WI\, United States
CATEGORIES:Monthly Club Meeting
ORGANIZER;CN="Tamara Hagan":MAILTO:thcormd@aol.com
END:VEVENT
BEGIN:VEVENT
DTSTART;TZID=America/Chicago:20240918T173000
DTEND;TZID=America/Chicago:20240918T200000
DTSTAMP:20260423T134252
CREATED:20240830T160240Z
LAST-MODIFIED:20240917T000854Z
UID:10694-1726680600-1726689600@www.zontaofmadison.org
SUMMARY:Zonta September Business Meeting and Program
DESCRIPTION:The monthly Zonta Club of Madison Business Meeting is a dinner meeting with a special program preceding discussion of club business. The September program features a presentation: “Mindfulness Empowers Women” by Mare Chapman psychotherapist\, teacher and author. \nMore about Mare Chapman HERE. \nThe schedule is as follows: \n5:30-6:00pm: Social Hour \n6:00pm-8:00pm: Dinner\, program and business meeting.
URL:https://www.zontaofmadison.org/event/zonta-september-business-meeting/
LOCATION:Vintage Brewing\, 674 S. Whitney Way\, Madison\, WI\, United States
CATEGORIES:Monthly Club Meeting
ORGANIZER;CN="Tamara Hagan":MAILTO:thcormd@aol.com
END:VEVENT
BEGIN:VEVENT
DTSTART;TZID=America/Chicago:20240911T130000
DTEND;TZID=America/Chicago:20240911T143000
DTSTAMP:20260423T134252
CREATED:20240902T181547Z
LAST-MODIFIED:20240902T181547Z
UID:10728-1726059600-1726065000@www.zontaofmadison.org
SUMMARY:Communications Committee Meeting
DESCRIPTION:Communications Committee Workshop Meeting. Room 112\, Pinney Library
URL:https://www.zontaofmadison.org/event/communications-committee-meeting/
LOCATION:Pinney Library\, 516 Cottage Grove Rd\, Madison\, WI\, 53716\, United States
CATEGORIES:Committee Meeting
ORGANIZER;CN="Judy Brandt":MAILTO:Brandtjm11@gmail.com
END:VEVENT
BEGIN:VEVENT
DTSTART;TZID=America/Chicago:20240907T110000
DTEND;TZID=America/Chicago:20240907T170000
DTSTAMP:20260423T134252
CREATED:20240524T181119Z
LAST-MODIFIED:20240902T184701Z
UID:10671-1725706800-1725728400@www.zontaofmadison.org
SUMMARY:Summer Social Events - Zonta at the Beach
DESCRIPTION:Content is protected.
URL:https://www.zontaofmadison.org/event/summer-social-events-zonta-at-the-beach/
LOCATION:WI
CATEGORIES:Social Events
ORGANIZER;CN="Linda Aten":MAILTO:atenret@gmail.com
END:VEVENT
BEGIN:VEVENT
DTSTART;TZID=America/Chicago:20240813T170000
DTEND;TZID=America/Chicago:20240813T190000
DTSTAMP:20260423T134252
CREATED:20240411T161506Z
LAST-MODIFIED:20240411T161652Z
UID:10538-1723568400-1723575600@www.zontaofmadison.org
SUMMARY:Zonta Madison Mix and Mingle
DESCRIPTION:The annual Mix and Mingle\, hosted by the\nMembership Committee\, is a chance to get\nourselves geared up for a new Zonta year\,\nhear from a speaker on a Zonta-related issue\n(TBD soon) and invite potential new members\nto learn more about Zonta.
URL:https://www.zontaofmadison.org/event/zonta-madison-mix-and-mingle/
LOCATION:JoAnn\, 7210 Timberwood Drive\, Madison\, WI\, United States
CATEGORIES:Social Events
ORGANIZER;CN="JoAnn Gruber-Hagen":MAILTO:Joann.gruberhagen@gmail.com
END:VEVENT
BEGIN:VEVENT
DTSTART;TZID=America/Chicago:20240803T130000
DTEND;TZID=America/Chicago:20240803T160000
DTSTAMP:20260423T134252
CREATED:20240524T175956Z
LAST-MODIFIED:20240524T180312Z
UID:10661-1722690000-1722700800@www.zontaofmadison.org
SUMMARY:Summer Zonta Social Event - Paoli Hop Garden
DESCRIPTION:Share food and drink outside on the Sugar River with fellow Zontians while listening to High Horse play live Country/Rock music.
URL:https://www.zontaofmadison.org/event/summer-zonta-social-event-paoli-hop-garden/
LOCATION:The Mill Paoli\, 6890 Paoli Rd\, Belleville\, WI\, 53508\, United States
CATEGORIES:Social Events
ORGANIZER;CN="Linda Aten":MAILTO:atenret@gmail.com
END:VEVENT
BEGIN:VEVENT
DTSTART;TZID=America/Chicago:20240713T143000
DTEND;TZID=America/Chicago:20240713T163000
DTSTAMP:20260423T134252
CREATED:20240524T174359Z
LAST-MODIFIED:20240524T221420Z
UID:10657-1720881000-1720888200@www.zontaofmadison.org
SUMMARY:Summer Zonta Social Event - Betty Lou Lake Cruise
DESCRIPTION:Historic cruise on Lake Mendota\, includes a mix of appetizers\, cash bar for beer\, wine and spirits. Features an informative and entertaining history of Lake Mendota narrated by Don Sanford\, author and Lake Historian. Purchase tickets at the Venue website link below. Husbands and friends are welcome. Please report 15 minutes prior to your scheduled departure time.
URL:https://www.zontaofmadison.org/event/summer-zonta-social-event-betty-lou-lake-cruise/
LOCATION:Betty Lou Cruises\, 5339 Lighthouse Bay Dr\, Madison\, WI\, United States
CATEGORIES:Social Events
ORGANIZER;CN="Linda Aten":MAILTO:atenret@gmail.com
END:VEVENT
BEGIN:VEVENT
DTSTART;VALUE=DATE:20240627
DTEND;VALUE=DATE:20240701
DTSTAMP:20260423T134252
CREATED:20240205T191014Z
LAST-MODIFIED:20240524T180410Z
UID:10381-1719446400-1719791999@www.zontaofmadison.org
SUMMARY:Zonta International Convention
DESCRIPTION:See Details at Zonta Covention 2024
URL:https://www.zontaofmadison.org/event/zonta-international-convention/
LOCATION:WI
CATEGORIES:Zonta International Events
END:VEVENT
BEGIN:VEVENT
DTSTART;TZID=America/Chicago:20240620T190000
DTEND;TZID=America/Chicago:20240620T210000
DTSTAMP:20260423T134252
CREATED:20240524T172652Z
LAST-MODIFIED:20240524T180354Z
UID:10653-1718910000-1718917200@www.zontaofmadison.org
SUMMARY:Summer Zonta Social Event - Drag Queen Bingo
DESCRIPTION:Zonta Club of Madison will celebrate Pride Month and participate in a fun night of Drag Queen Bingo!
URL:https://www.zontaofmadison.org/event/summer-zonta-social-event-drag-queen-bingo/
LOCATION:Five Nightclub\, 5 Applegate Ct\, Madison\, WI\, United States
CATEGORIES:Social Events
ORGANIZER;CN="Linda Aten":MAILTO:atenret@gmail.com
END:VEVENT
BEGIN:VEVENT
DTSTART;TZID=America/Chicago:20240606T180000
DTEND;TZID=America/Chicago:20240606T200000
DTSTAMP:20260423T134252
CREATED:20240524T172007Z
LAST-MODIFIED:20240524T220912Z
UID:10646-1717696800-1717704000@www.zontaofmadison.org
SUMMARY:Summer Zonta Social Events -- East Side Tiki Bar
DESCRIPTION:A Nu-Disco and funk band will provide music\, food will be available.
URL:https://www.zontaofmadison.org/event/summer-zonta-social-events-east-side-tiki-bar/
LOCATION:East Side Tiki Bar\, 3735 Monona Dr\, Madison\, WI\, 53714\, United States
CATEGORIES:Social Events
ORGANIZER;CN="Linda Aten":MAILTO:atenret@gmail.com
END:VEVENT
BEGIN:VEVENT
DTSTART;VALUE=DATE:20240601
DTEND;VALUE=DATE:20240602
DTSTAMP:20260423T134252
CREATED:20240219T201210Z
LAST-MODIFIED:20240219T201427Z
UID:10395-1717200000-1717286399@www.zontaofmadison.org
SUMMARY:Girls on the Run 5K Event
DESCRIPTION:Girls on the Run (GOTR) is holding their 5K Run event in Verona\, WI. Volunteers are needed to support this event during the day of the Run. Julia Miller is the volunteer coordinator for GOTR for this event. More information will be provided on this event as the time gets closer.
URL:https://www.zontaofmadison.org/event/girls-on-the-run-5k-event/
LOCATION:WI
CATEGORIES:Partner Events
ATTACH;FMTTYPE=image/jpeg:https://www.zontaofmadison.org/wp-content/uploads/2024/02/Screenshot_20240219_140454_Chrome-e1708373381104.jpg
ORGANIZER;CN="Judy Brandt":MAILTO:Brandtjm11@gmail.com
END:VEVENT
BEGIN:VEVENT
DTSTART;VALUE=DATE:20240531
DTEND;VALUE=DATE:20240601
DTSTAMP:20260423T134252
CREATED:20240219T201851Z
LAST-MODIFIED:20240219T202705Z
UID:10400-1717113600-1717199999@www.zontaofmadison.org
SUMMARY:Girls on the Run pre-Event Prep
DESCRIPTION:Girls on the Run pre-event preparation day. Volunteers are needed on this day to help prepare for the 5K Run on June 1st. Julia Miller is the volunteer coordinator for GOTR. More information will be available as the event date gets closer.
URL:https://www.zontaofmadison.org/event/girls-on-the-run-pre-event-prep/
LOCATION:WI
CATEGORIES:Partner Events
ORGANIZER;CN="Judy Brandt":MAILTO:Brandtjm11@gmail.com
END:VEVENT
BEGIN:VEVENT
DTSTART;TZID=America/Chicago:20240515T173000
DTEND;TZID=America/Chicago:20240515T200000
DTSTAMP:20260423T134252
CREATED:20240104T183500Z
LAST-MODIFIED:20240130T000302Z
UID:10294-1715794200-1715803200@www.zontaofmadison.org
SUMMARY:Zonta May Business Meeting
DESCRIPTION:The monthly Zonta Club of Madison Business Meeting is a dinner meeting with a special program preceding discussion of club business. The May meeting is the Zonta Club of Madison Annual Meeting. \nThe schedule is as follows: \n5:30-6:00pm: Social Hour \n6:00pm-8:00pm: Dinner\, annual meeting. \n  \n 
URL:https://www.zontaofmadison.org/event/zonta-may-business-meeting/
LOCATION:Vintage Brewing\, 674 S. Whitney Way\, Madison\, WI\, United States
CATEGORIES:Monthly Club Meeting
ORGANIZER;CN="Tamara Hagan":MAILTO:thcormd@aol.com
END:VEVENT
BEGIN:VEVENT
DTSTART;TZID=America/Chicago:20240420T100000
DTEND;TZID=America/Chicago:20240420T120000
DTSTAMP:20260423T134252
CREATED:20240411T160030Z
LAST-MODIFIED:20240411T160030Z
UID:10532-1713607200-1713614400@www.zontaofmadison.org
SUMMARY:Little Free Library Book Distribution
DESCRIPTION:The Bev Duncan Little Free Libraries book\npick-up & distribution. Please join\nus for coffee\, conversation and Madison’s\nbest donuts (Greenbush Bakery) as you pick\nup books to distribute.
URL:https://www.zontaofmadison.org/event/little-free-library-book-distribution/
LOCATION:JoAnn\, 7210 Timberwood Drive\, Madison\, WI\, United States
CATEGORIES:Zonta Service Events
ORGANIZER;CN="JoAnn Gruber-Hagen":MAILTO:Joann.gruberhagen@gmail.com
END:VEVENT
BEGIN:VEVENT
DTSTART;TZID=America/Chicago:20240417T173000
DTEND;TZID=America/Chicago:20240417T200000
DTSTAMP:20260423T134252
CREATED:20240104T182652Z
LAST-MODIFIED:20240130T000701Z
UID:10289-1713375000-1713384000@www.zontaofmadison.org
SUMMARY:Zonta April Business Meeting
DESCRIPTION:The monthly Zonta Club of Madison Business Meeting is a dinner meeting with a special program preceding discussion of club business. The April program features “Dreaming in Spanish: An Unexpected Love Story in Puerto Vallarta”\, presented by Author\, Sara Alvarado. \nThe schedule is as follows: \n5:30-6:00pm: Social Hour \n6:00pm-8:00pm: Dinner\, program and business meeting. \n  \n 
URL:https://www.zontaofmadison.org/event/zonta-april-business-meeting/
LOCATION:Vintage Brewing\, 674 S. Whitney Way\, Madison\, WI\, United States
ORGANIZER;CN="Tamara Hagan":MAILTO:thcormd@aol.com
END:VEVENT
BEGIN:VEVENT
DTSTART;TZID=America/Chicago:20240413T080000
DTEND;TZID=America/Chicago:20240413T170000
DTSTAMP:20260423T134252
CREATED:20240205T191040Z
LAST-MODIFIED:20240205T191040Z
UID:10373-1712995200-1713027600@www.zontaofmadison.org
SUMMARY:Zonta Area 2 Spring Workshop
DESCRIPTION: 
URL:https://www.zontaofmadison.org/event/zonta-area-2-spring-workshop/
LOCATION:WI
CATEGORIES:Zonta Area Event
END:VEVENT
BEGIN:VEVENT
DTSTART;TZID=America/Chicago:20240324T080000
DTEND;TZID=America/Chicago:20240324T090000
DTSTAMP:20260423T134252
CREATED:20240229T205706Z
LAST-MODIFIED:20240229T205706Z
UID:10416-1711267200-1711270800@www.zontaofmadison.org
SUMMARY:DEADLINE Newsletter - Zonta Club of Madison
DESCRIPTION:Content is protected.
URL:https://www.zontaofmadison.org/event/deadline-newsletter-zonta-club-of-madison/
LOCATION:WI
CATEGORIES:General Interest
ORGANIZER;CN="Jane Hartman":MAILTO:Jlh2776@gmail.com
END:VEVENT
BEGIN:VEVENT
DTSTART;TZID=America/Chicago:20240320T173000
DTEND;TZID=America/Chicago:20240320T200000
DTSTAMP:20260423T134252
CREATED:20240104T181351Z
LAST-MODIFIED:20240130T000603Z
UID:10282-1710955800-1710964800@www.zontaofmadison.org
SUMMARY:Zonta March Business Meeting
DESCRIPTION:The monthly Zonta Club of Madison Business Meeting is a dinner meeting with a special program preceding discussion of club business. This month’s program features the “Wisconsin Book Festival”\, presented by Festival Director\,  Jane Rotonda \nThe schedule is as follows: \n5:30-6:00pm: Social Hour \n6:00pm-8:00pm: Dinner\, program and business meeting. \n  \n 
URL:https://www.zontaofmadison.org/event/zonta-march-business-meeting/
LOCATION:Vintage Brewing\, 674 S. Whitney Way\, Madison\, WI\, United States
CATEGORIES:Monthly Club Meeting
ORGANIZER;CN="Tamara Hagan":MAILTO:thcormd@aol.com
END:VEVENT
BEGIN:VEVENT
DTSTART;TZID=America/Chicago:20240310T080000
DTEND;TZID=America/Chicago:20240310T170000
DTSTAMP:20260423T134252
CREATED:20240130T215736Z
LAST-MODIFIED:20240205T200336Z
UID:10363-1710057600-1710090000@www.zontaofmadison.org
SUMMARY:Advocacy Into Action Event
DESCRIPTION:Content is protected.
URL:https://www.zontaofmadison.org/event/advocacy-into-action-workshop/
LOCATION:Wisconsin Masonic Center\, 301 Wisconsin Ave\, Madison\, WI\, United States
CATEGORIES:Zonta Advocacy
ORGANIZER;CN="JoAnn Gruber-Hagen":MAILTO:Joann.gruberhagen@gmail.com
END:VEVENT
END:VCALENDAR